BEGIN:VCALENDAR
VERSION:2.0
PRODID:-//AVIATION TIMES - ECPv5.15.0//NONSGML v1.0//EN
CALSCALE:GREGORIAN
METHOD:PUBLISH
X-WR-CALNAME:AVIATION TIMES
X-ORIGINAL-URL:https://aviation-times.aero
X-WR-CALDESC:Events for AVIATION TIMES
BEGIN:VTIMEZONE
TZID:Europe/Bratislava
BEGIN:DAYLIGHT
TZOFFSETFROM:+0100
TZOFFSETTO:+0200
TZNAME:CEST
DTSTART:20140330T010000
END:DAYLIGHT
BEGIN:STANDARD
TZOFFSETFROM:+0200
TZOFFSETTO:+0100
TZNAME:CET
DTSTART:20141026T010000
END:STANDARD
END:VTIMEZONE
BEGIN:VEVENT
DTSTART;VALUE=DATE:20140530
DTEND;VALUE=DATE:20140602
DTSTAMP:20260420T025230
CREATED:20140304T091839Z
LAST-MODIFIED:20140304T091839Z
UID:2417-1401408000-1401667199@aviation-times.aero
SUMMARY:Aeroexpo UK
DESCRIPTION:Share the post "Aeroexpo UK" \n\n	FacebookTwitterShare…
URL:https://aviation-times.aero/event/aeroexpo-uk/
LOCATION:Sywell Aerodrome\, Northamptonshire\, United Kingdom
END:VEVENT
END:VCALENDAR