BEGIN:VCALENDAR
VERSION:2.0
PRODID:-//AVIATION TIMES - ECPv5.15.0//NONSGML v1.0//EN
CALSCALE:GREGORIAN
METHOD:PUBLISH
X-WR-CALNAME:AVIATION TIMES
X-ORIGINAL-URL:https://aviation-times.aero
X-WR-CALDESC:Events for AVIATION TIMES
BEGIN:VTIMEZONE
TZID:Europe/Bratislava
BEGIN:DAYLIGHT
TZOFFSETFROM:+0100
TZOFFSETTO:+0200
TZNAME:CEST
DTSTART:20140330T010000
END:DAYLIGHT
BEGIN:STANDARD
TZOFFSETFROM:+0200
TZOFFSETTO:+0100
TZNAME:CET
DTSTART:20141026T010000
END:STANDARD
END:VTIMEZONE
BEGIN:VEVENT
DTSTART;VALUE=DATE:20141119
DTEND;VALUE=DATE:20141121
DTSTAMP:20260420T025230
CREATED:20140304T102756Z
LAST-MODIFIED:20140304T141642Z
UID:2420-1416355200-1416527999@aviation-times.aero
SUMMARY:CEPA EXPO 2014
DESCRIPTION:CEPA EXPO 2014 will be held at the Prague Castle on November 19th and 20th of this year. Prague Castle offers excellent conferencing and product display facilities. The location was chosen with a view to building on the successes of the previous four CEPA EXPOS. The unique aura of this historic building will facilitate information exchange\, productive discussion\, networking and business meetings among delegates. \nThe objective of the 2014 conference is to concentrate on promoting safe and economic growth of aviation in the CEPA region\, for business aviation operators\, scheduled carriers\, suppliers and service providers.  Leading experts will share their knowledge and experience on topics including safety management systems; cockpit resource management; operating cost control; maintenance planning and budgeting; aviation fuel purchasing; electronic cockpit devices; future compliance requirements for aircraft and operations; fleet upgrading; infrastructure expansion; regulatory and legal developments and financing. \nCEPA EXPO is the annual forum that focuses specifically on issues of aviation operations\, growth and business development in Central and Eastern Europe. \n\n\nShare the post "CEPA EXPO 2014" \n\n	FacebookTwitterShare…
URL:https://aviation-times.aero/event/cepa-expo-2014/
LOCATION:Prague Castle\, Czech Republic
END:VEVENT
END:VCALENDAR