BEGIN:VCALENDAR
VERSION:2.0
PRODID:-//AVIATION TIMES - ECPv5.15.0//NONSGML v1.0//EN
CALSCALE:GREGORIAN
METHOD:PUBLISH
X-WR-CALNAME:AVIATION TIMES
X-ORIGINAL-URL:https://aviation-times.aero
X-WR-CALDESC:Events for AVIATION TIMES
BEGIN:VTIMEZONE
TZID:Europe/Bratislava
BEGIN:DAYLIGHT
TZOFFSETFROM:+0100
TZOFFSETTO:+0200
TZNAME:CEST
DTSTART:20140330T010000
END:DAYLIGHT
BEGIN:STANDARD
TZOFFSETFROM:+0200
TZOFFSETTO:+0100
TZNAME:CET
DTSTART:20141026T010000
END:STANDARD
END:VTIMEZONE
BEGIN:VEVENT
DTSTART;VALUE=DATE:20140520
DTEND;VALUE=DATE:20140526
DTSTAMP:20260420T045636
CREATED:20140304T091554Z
LAST-MODIFIED:20140304T091554Z
UID:2413-1400544000-1401062399@aviation-times.aero
SUMMARY:ILA Berlin Air Show
DESCRIPTION:Share the post "ILA Berlin Air Show" \n\n	FacebookTwitterShare…
URL:https://aviation-times.aero/event/ila-berlin-air-show/
LOCATION:Berlin ExpoCenter Airport\, Berlin\, Germany
END:VEVENT
END:VCALENDAR